Workbook

Sheet Vardiya Çizelgesi
A1: HAFTALIK VARDİYA ÇİZELGESİ
A2: Şube:
A3: Hafta başı (pazartesi): | C3: 46300 | E3: Tarihi değiştirin; günler kendiliğinden güncellenir. Günlere 'Vardiya Kalıpları' sayfasındaki kodları yazın.
A5: Sicil No | B5: Ad Soyad | C5: Pazartesi | D5: Salı | E5: Çarşamba | F5: Perşembe | G5: Cuma | H5: Cumartesi | I5: Pazar | J5: Haftalık net saat | K5: Hafta tatili | L5: Kontrol
C6: =$C$3+0 | D6: =$C$3+1 | E6: =$C$3+2 | F6: =$C$3+3 | G6: =$C$3+4 | H6: =$C$3+5 | I6: =$C$3+6
A7: P-1001 | B7: Örnek Çalışan 1 | C7: S | D7: S | E7: S | F7: S | G7: S | H7: S | I7: HT | J7: =IF($B7="","",SUMPRODUCT(SUMIF('Vardiya Kalıpları'!$A$4:$A$15,C7:I7,'Vardiya Kalıpları'!$F$4:$F$15))) | K7: =IF($B7="","",IF(COUNTIF(C7:I7,"HT")>=1,"Var","YOK")) | L7: =IF($B7="","",IF(J7>45,"45 saati aşıyor",IF(K7="YOK","Hafta tatili yok","Uygun")))
A8: P-1002 | B8: Örnek Çalışan 2 | C8: A | D8: A | E8: A | F8: A | G8: A | H8: HT | I8: S | J8: =IF($B8="","",SUMPRODUCT(SUMIF('Vardiya Kalıpları'!$A$4:$A$15,C8:I8,'Vardiya Kalıpları'!$F$4:$F$15))) | K8: =IF($B8="","",IF(COUNTIF(C8:I8,"HT")>=1,"Var","YOK")) | L8: =IF($B8="","",IF(J8>45,"45 saati aşıyor",IF(K8="YOK","Hafta tatili yok","Uygun")))
A9: P-1003 | B9: Örnek Çalışan 3 | C9: G | D9: G | E9: G | F9: G | G9: HT | H9: A | I9: A | J9: =IF($B9="","",SUMPRODUCT(SUMIF('Vardiya Kalıpları'!$A$4:$A$15,C9:I9,'Vardiya Kalıpları'!$F$4:$F$15))) | K9: =IF($B9="","",IF(COUNTIF(C9:I9,"HT")>=1,"Var","YOK")) | L9: =IF($B9="","",IF(J9>45,"45 saati aşıyor",IF(K9="YOK","Hafta tatili yok","Uygun")))
A10: P-1004 | B10: Örnek Çalışan 4 | C10: T | D10: T | E10: T | F10: HT | G10: G | H10: G | I10: G | J10: =IF($B10="","",SUMPRODUCT(SUMIF('Vardiya Kalıpları'!$A$4:$A$15,C10:I10,'Vardiya Kalıpları'!$F$4:$F$15))) | K10: =IF($B10="","",IF(COUNTIF(C10:I10,"HT")>=1,"Var","YOK")) | L10: =IF($B10="","",IF(J10>45,"45 saati aşıyor",IF(K10="YOK","Hafta tatili yok","Uygun")))
J11: =IF($B11="","",SUMPRODUCT(SUMIF('Vardiya Kalıpları'!$A$4:$A$15,C11:I11,'Vardiya Kalıpları'!$F$4:$F$15))) | K11: =IF($B11="","",IF(COUNTIF(C11:I11,"HT")>=1,"Var","YOK")) | L11: =IF($B11="","",IF(J11>45,"45 saati aşıyor",IF(K11="YOK","Hafta tatili yok","Uygun")))
J12: =IF($B12="","",SUMPRODUCT(SUMIF('Vardiya Kalıpları'!$A$4:$A$15,C12:I12,'Vardiya Kalıpları'!$F$4:$F$15))) | K12: =IF($B12="","",IF(COUNTIF(C12:I12,"HT")>=1,"Var","YOK")) | L12: =IF($B12="","",IF(J12>45,"45 saati aşıyor",IF(K12="YOK","Hafta tatili yok","Uygun")))
J13: =IF($B13="","",SUMPRODUCT(SUMIF('Vardiya Kalıpları'!$A$4:$A$15,C13:I13,'Vardiya Kalıpları'!$F$4:$F$15))) | K13: =IF($B13="","",IF(COUNTIF(C13:I13,"HT")>=1,"Var","YOK")) | L13: =IF($B13="","",IF(J13>45,"45 saati aşıyor",IF(K13="YOK","Hafta tatili yok","Uygun")))
J14: =IF($B14="","",SUMPRODUCT(SUMIF('Vardiya Kalıpları'!$A$4:$A$15,C14:I14,'Vardiya Kalıpları'!$F$4:$F$15))) | K14: =IF($B14="","",IF(COUNTIF(C14:I14,"HT")>=1,"Var","YOK")) | L14: =IF($B14="","",IF(J14>45,"45 saati aşıyor",IF(K14="YOK","Hafta tatili yok","Uygun")))
J15: =IF($B15="","",SUMPRODUCT(SUMIF('Vardiya Kalıpları'!$A$4:$A$15,C15:I15,'Vardiya Kalıpları'!$F$4:$F$15))) | K15: =IF($B15="","",IF(COUNTIF(C15:I15,"HT")>=1,"Var","YOK")) | L15: =IF($B15="","",IF(J15>45,"45 saati aşıyor",IF(K15="YOK","Hafta tatili yok","Uygun")))
J16: =IF($B16="","",SUMPRODUCT(SUMIF('Vardiya Kalıpları'!$A$4:$A$15,C16:I16,'Vardiya Kalıpları'!$F$4:$F$15))) | K16: =IF($B16="","",IF(COUNTIF(C16:I16,"HT")>=1,"Var","YOK")) | L16: =IF($B16="","",IF(J16>45,"45 saati aşıyor",IF(K16="YOK","Hafta tatili yok","Uygun")))
J17: =IF($B17="","",SUMPRODUCT(SUMIF('Vardiya Kalıpları'!$A$4:$A$15,C17:I17,'Vardiya Kalıpları'!$F$4:$F$15))) | K17: =IF($B17="","",IF(COUNTIF(C17:I17,"HT")>=1,"Var","YOK")) | L17: =IF($B17="","",IF(J17>45,"45 saati aşıyor",IF(K17="YOK","Hafta tatili yok","Uygun")))
J18: =IF($B18="","",SUMPRODUCT(SUMIF('Vardiya Kalıpları'!$A$4:$A$15,C18:I18,'Vardiya Kalıpları'!$F$4:$F$15))) | K18: =IF($B18="","",IF(COUNTIF(C18:I18,"HT")>=1,"Var","YOK")) | L18: =IF($B18="","",IF(J18>45,"45 saati aşıyor",IF(K18="YOK","Hafta tatili yok","Uygun")))
J19: =IF($B19="","",SUMPRODUCT(SUMIF('Vardiya Kalıpları'!$A$4:$A$15,C19:I19,'Vardiya Kalıpları'!$F$4:$F$15))) | K19: =IF($B19="","",IF(COUNTIF(C19:I19,"HT")>=1,"Var","YOK")) | L19: =IF($B19="","",IF(J19>45,"45 saati aşıyor",IF(K19="YOK","Hafta tatili yok","Uygun")))
J20: =IF($B20="","",SUMPRODUCT(SUMIF('Vardiya Kalıpları'!$A$4:$A$15,C20:I20,'Vardiya Kalıpları'!$F$4:$F$15))) | K20: =IF($B20="","",IF(COUNTIF(C20:I20,"HT")>=1,"Var","YOK")) | L20: =IF($B20="","",IF(J20>45,"45 saati aşıyor",IF(K20="YOK","Hafta tatili yok","Uygun")))
J21: =IF($B21="","",SUMPRODUCT(SUMIF('Vardiya Kalıpları'!$A$4:$A$15,C21:I21,'Vardiya Kalıpları'!$F$4:$F$15))) | K21: =IF($B21="","",IF(COUNTIF(C21:I21,"HT")>=1,"Var","YOK")) | L21: =IF($B21="","",IF(J21>45,"45 saati aşıyor",IF(K21="YOK","Hafta tatili yok","Uygun")))
J22: =IF($B22="","",SUMPRODUCT(SUMIF('Vardiya Kalıpları'!$A$4:$A$15,C22:I22,'Vardiya Kalıpları'!$F$4:$F$15))) | K22: =IF($B22="","",IF(COUNTIF(C22:I22,"HT")>=1,"Var","YOK")) | L22: =IF($B22="","",IF(J22>45,"45 saati aşıyor",IF(K22="YOK","Hafta tatili yok","Uygun")))
... J26: =IF($B26="","",SUMPRODUCT(SUMIF('Vardiya Kalıpları'!$A$4:$A$15,C26:I26,'Vardiya Kalıpları'!$F$4:$F$15))) | K26: =IF($B26="","",IF(COUNTIF(C26:I26,"HT")>=1,"Var","YOK")) | L26: =IF($B26="","",IF(J26>45,"45 saati aşıyor",IF(K26="YOK","Hafta tatili yok","Uygun")))
B28: Günlük kişi sayısı
B29: ="S — "&IFERROR(INDEX('Vardiya Kalıpları'!$B$4:$B$15,MATCH("S",'Vardiya Kalıpları'!$A$4:$A$15,0)),"") | C29: =COUNTIF(C$7:C$26,"S") | D29: =COUNTIF(D$7:D$26,"S") | E29: =COUNTIF(E$7:E$26,"S") | F29: =COUNTIF(F$7:F$26,"S") | G29: =COUNTIF(G$7:G$26,"S") | H29: =COUNTIF(H$7:H$26,"S") | I29: =COUNTIF(I$7:I$26,"S")
B30: ="A — "&IFERROR(INDEX('Vardiya Kalıpları'!$B$4:$B$15,MATCH("A",'Vardiya Kalıpları'!$A$4:$A$15,0)),"") | C30: =COUNTIF(C$7:C$26,"A") | D30: =COUNTIF(D$7:D$26,"A") | E30: =COUNTIF(E$7:E$26,"A") | F30: =COUNTIF(F$7:F$26,"A") | G30: =COUNTIF(G$7:G$26,"A") | H30: =COUNTIF(H$7:H$26,"A") | I30: =COUNTIF(I$7:I$26,"A")
B31: ="G — "&IFERROR(INDEX('Vardiya Kalıpları'!$B$4:$B$15,MATCH("G",'Vardiya Kalıpları'!$A$4:$A$15,0)),"") | C31: =COUNTIF(C$7:C$26,"G") | D31: =COUNTIF(D$7:D$26,"G") | E31: =COUNTIF(E$7:E$26,"G") | F31: =COUNTIF(F$7:F$26,"G") | G31: =COUNTIF(G$7:G$26,"G") | H31: =COUNTIF(H$7:H$26,"G") | I31: =COUNTIF(I$7:I$26,"G")
B32: ="T — "&IFERROR(INDEX('Vardiya Kalıpları'!$B$4:$B$15,MATCH("T",'Vardiya Kalıpları'!$A$4:$A$15,0)),"") | C32: =COUNTIF(C$7:C$26,"T") | D32: =COUNTIF(D$7:D$26,"T") | E32: =COUNTIF(E$7:E$26,"T") | F32: =COUNTIF(F$7:F$26,"T") | G32: =COUNTIF(G$7:G$26,"T") | H32: =COUNTIF(H$7:H$26,"T") | I32: =COUNTIF(I$7:I$26,"T")
A34: Uyarılar yalnızca 45 saat ve hafta tatilini kontrol eder; 11 saat dinlenme ve gece çalışması sınırını elle kontrol edin.
A35: Vardiyayı her hafta elle yazmak istemiyorsanız: Burdaa Otomatik Vardiya, izinleri ve iş kanunu kurallarını gözeterek haftayı tek tıkla planlar → burdaa.co

Sheet Vardiya Kalıpları
A1: VARDİYA KALIPLARI
A2: Kendi vardiyalarınızı yazın. Net çalışma = bitiş − başlangıç − mola. Gece yarısını geçen vardiyalar (ör. 16:00–00:00) doğru hesaplanır.
A3: Kod | B3: Vardiya adı | C3: Başlangıç | D3: Bitiş | E3: Mola (dk) | F3: Net çalışma (saat)
A4: S | B4: Sabah | C4: 0.33333333 | D4: 0.66666667 | E4: 30 | F4: =IF(OR(C4="",D4=""),0,ROUND(MOD(D4-C4,1)*24-E4/60,2))
A5: A | B5: Akşam | C5: 0.66666667 | D5: 0 | E5: 30 | F5: =IF(OR(C5="",D5=""),0,ROUND(MOD(D5-C5,1)*24-E5/60,2))
A6: G | B6: Gece | C6: 0 | D6: 0.33333333 | E6: 30 | F6: =IF(OR(C6="",D6=""),0,ROUND(MOD(D6-C6,1)*24-E6/60,2))
A7: T | B7: Tam gün | C7: 0.41666667 | D7: 0.75 | E7: 60 | F7: =IF(OR(C7="",D7=""),0,ROUND(MOD(D7-C7,1)*24-E7/60,2))
A8: HT | B8: Hafta tatili | F8: =IF(OR(C8="",D8=""),0,ROUND(MOD(D8-C8,1)*24-E8/60,2))
A9: Yİ | B9: Yıllık izin | F9: =IF(OR(C9="",D9=""),0,ROUND(MOD(D9-C9,1)*24-E9/60,2))
A10: R | B10: Raporlu | F10: =IF(OR(C10="",D10=""),0,ROUND(MOD(D10-C10,1)*24-E10/60,2))
F11: =IF(OR(C11="",D11=""),0,ROUND(MOD(D11-C11,1)*24-E11/60,2))
F12: =IF(OR(C12="",D12=""),0,ROUND(MOD(D12-C12,1)*24-E12/60,2))
F13: =IF(OR(C13="",D13=""),0,ROUND(MOD(D13-C13,1)*24-E13/60,2))
F14: =IF(OR(C14="",D14=""),0,ROUND(MOD(D14-C14,1)*24-E14/60,2))
F15: =IF(OR(C15="",D15=""),0,ROUND(MOD(D15-C15,1)*24-E15/60,2))
A17: İş Kanunu hatırlatmaları
A18: • Haftalık çalışma en fazla 45 saat; aşan kısım fazla mesaidir.
A19: • Günlük çalışma 11 saati geçemez.
A20: • 7 günde en az 24 saat kesintisiz hafta tatili verilir.
A21: • Vardiya değişiminde çalışan en az 11 saat dinlenmeden yeni vardiyaya başlatılamaz.
A22: • Gece çalışması (20:00–06:00 arası) 7,5 saati geçemez.
A23: • Ara dinlenme: 4 saate kadar 15 dk, 4–7,5 saat 30 dk, 7,5 saatten fazla 1 saat.
